BEGIN:VCALENDAR
VERSION:2.0
PRODID:-//ANPTrilhos - ECPv6.14.1//NONSGML v1.0//EN
CALSCALE:GREGORIAN
METHOD:PUBLISH
X-ORIGINAL-URL:https://anptrilhos.org.br
X-WR-CALDESC:Eventos para ANPTrilhos
REFRESH-INTERVAL;VALUE=DURATION:PT1H
X-Robots-Tag:noindex
X-PUBLISHED-TTL:PT1H
BEGIN:VTIMEZONE
TZID:America/Sao_Paulo
BEGIN:STANDARD
TZOFFSETFROM:-0300
TZOFFSETTO:-0300
TZNAME:-03
DTSTART:20250101T000000
END:STANDARD
END:VTIMEZONE
BEGIN:VEVENT
DTSTART;VALUE=DATE:20251028
DTEND;VALUE=DATE:20251029
DTSTAMP:20260424T025648
CREATED:20251003T120635Z
LAST-MODIFIED:20251009T121322Z
UID:39909-1761609600-1761695999@anptrilhos.org.br
SUMMARY:2º Workshop Transporte Ferroviário de Passageiros
DESCRIPTION:O Ministério dos Transportes realizará o 2º Workshop de Transporte Ferroviário de Passageiros no dia 28 de outubro de 2025\, das 9h às 18h\, no auditório do Ministério\, em Brasília (DF). A participação no evento é gratuita. \nOs painéis terão como temas: \n• Panorama internacional\n• Operações urbanas consorciadas\n• Articulação Intergovernamental\n• Desafios regulatórios – Financiamento de transporte ferroviário de passageiros associado a empreendimentos do tipo real estate\n• Externalidades positivas do transporte ferroviário de passageiros \nA Associação Nacional dos Transportadores de Passageiros sobre Trilhos (ANPTrilhos) apoia o Ministério na realização do workshop. \nInscreva-se e participe!
URL:https://anptrilhos.org.br/eventos/2o-workshop-transporte-ferroviario-de-passageiros/
LOCATION:Ministério dos Transportes\, Esplanada dos Ministérios\, Bloco R\, Ed. Sede\, Brasília\, Distrito Federal\, 70.044-902\, Brazil
END:VEVENT
END:VCALENDAR