BEGIN:VCALENDAR
VERSION:2.0
PRODID:-//ANPTrilhos - ECPv6.14.1//NONSGML v1.0//EN
CALSCALE:GREGORIAN
METHOD:PUBLISH
X-WR-CALNAME:ANPTrilhos
X-ORIGINAL-URL:https://anptrilhos.org.br
X-WR-CALDESC:Eventos para ANPTrilhos
REFRESH-INTERVAL;VALUE=DURATION:PT1H
X-Robots-Tag:noindex
X-PUBLISHED-TTL:PT1H
BEGIN:VTIMEZONE
TZID:America/Sao_Paulo
BEGIN:STANDARD
TZOFFSETFROM:-0300
TZOFFSETTO:-0300
TZNAME:-03
DTSTART:20260101T000000
END:STANDARD
END:VTIMEZONE
BEGIN:VEVENT
DTSTART;VALUE=DATE:20260223
DTEND;VALUE=DATE:20260225
DTSTAMP:20260423T053236
CREATED:20251218T130956Z
LAST-MODIFIED:20251218T130956Z
UID:40685-1771804800-1771977599@anptrilhos.org.br
SUMMARY:P3C - PPPs e Concessões
DESCRIPTION:
URL:https://anptrilhos.org.br/eventos/p3c-ppps-e-concessoes-2/
LOCATION:São Paulo/SP
END:VEVENT
END:VCALENDAR