BEGIN:VCALENDAR
VERSION:2.0
PRODID:-//ANPTrilhos - ECPv6.14.1//NONSGML v1.0//EN
CALSCALE:GREGORIAN
METHOD:PUBLISH
X-WR-CALNAME:ANPTrilhos
X-ORIGINAL-URL:https://anptrilhos.org.br
X-WR-CALDESC:Eventos para ANPTrilhos
REFRESH-INTERVAL;VALUE=DURATION:PT1H
X-Robots-Tag:noindex
X-PUBLISHED-TTL:PT1H
BEGIN:VTIMEZONE
TZID:America/Sao_Paulo
BEGIN:STANDARD
TZOFFSETFROM:-0300
TZOFFSETTO:-0300
TZNAME:-03
DTSTART:20250101T000000
END:STANDARD
END:VTIMEZONE
BEGIN:VEVENT
DTSTART;VALUE=DATE:20250605
DTEND;VALUE=DATE:20250606
DTSTAMP:20260424T011410
CREATED:20250211T174136Z
LAST-MODIFIED:20250211T174136Z
UID:37721-1749081600-1749167999@anptrilhos.org.br
SUMMARY:Fórum ABDIB 2025
DESCRIPTION:
URL:https://anptrilhos.org.br/eventos/forum-abdib-2025/
LOCATION:Brasília/DF\, Brazil
ORGANIZER;CN="ABDIB - Associa%C3%A7%C3%A3o Brasileira da Infraestrutura e Ind%C3%BAstrias de Base":MAILTO:abdib@abdib.org.br
END:VEVENT
END:VCALENDAR