BEGIN:VCALENDAR
VERSION:2.0
PRODID:-//ANPTrilhos - ECPv6.14.1//NONSGML v1.0//EN
CALSCALE:GREGORIAN
METHOD:PUBLISH
X-WR-CALNAME:ANPTrilhos
X-ORIGINAL-URL:https://anptrilhos.org.br
X-WR-CALDESC:Eventos para ANPTrilhos
REFRESH-INTERVAL;VALUE=DURATION:PT1H
X-Robots-Tag:noindex
X-PUBLISHED-TTL:PT1H
BEGIN:VTIMEZONE
TZID:America/Sao_Paulo
BEGIN:STANDARD
TZOFFSETFROM:-0300
TZOFFSETTO:-0300
TZNAME:-03
DTSTART:20250101T000000
END:STANDARD
END:VTIMEZONE
BEGIN:VEVENT
DTSTART;VALUE=DATE:20250422
DTEND;VALUE=DATE:20250425
DTSTAMP:20260424T041139
CREATED:20250211T174931Z
LAST-MODIFIED:20250211T175002Z
UID:37734-1745280000-1745539199@anptrilhos.org.br
SUMMARY:Intermodal South América
DESCRIPTION:Feira de logística e transporte multimodal.
URL:https://anptrilhos.org.br/eventos/intermodal-south-america/
LOCATION:Distrito Anhembi\, São Paulo/SP
END:VEVENT
BEGIN:VEVENT
DTSTART;TZID=America/Sao_Paulo:20250422T130000
DTEND;TZID=America/Sao_Paulo:20250424T200000
DTSTAMP:20260424T041139
CREATED:20250211T174414Z
LAST-MODIFIED:20250211T174414Z
UID:37726-1745326800-1745524800@anptrilhos.org.br
SUMMARY:NT EXPO 2025
DESCRIPTION:
URL:https://anptrilhos.org.br/eventos/nt-expo-2025/
LOCATION:Distrito Anhembi\, São Paulo/SP
END:VEVENT
END:VCALENDAR