BEGIN:VCALENDAR
VERSION:2.0
PRODID:-//ANPTrilhos - ECPv6.14.1//NONSGML v1.0//EN
CALSCALE:GREGORIAN
METHOD:PUBLISH
X-ORIGINAL-URL:https://anptrilhos.org.br
X-WR-CALDESC:Eventos para ANPTrilhos
REFRESH-INTERVAL;VALUE=DURATION:PT1H
X-Robots-Tag:noindex
X-PUBLISHED-TTL:PT1H
BEGIN:VTIMEZONE
TZID:America/Sao_Paulo
BEGIN:STANDARD
TZOFFSETFROM:-0300
TZOFFSETTO:-0300
TZNAME:-03
DTSTART:20230101T000000
END:STANDARD
END:VTIMEZONE
BEGIN:VEVENT
DTSTART;VALUE=DATE:20231003
DTEND;VALUE=DATE:20231006
DTSTAMP:20260425T084436
CREATED:20230810T124828Z
LAST-MODIFIED:20230810T124828Z
UID:33408-1696291200-1696550399@anptrilhos.org.br
SUMMARY:Futurecom 2023
DESCRIPTION:O Futurecom é a maior plataforma B2B de conteúdo e relacionamento voltada ao universo de conectividade da América Latina. Há 24 anos fomentando o mercado\, combina exposição\, experiências\, debates\, networking e demonstrações sobre os impactos das aplicações de tecnologias em praticamente todos os segmentos da economia\, gerando grandes oportunidades de negócios. \nSob o tema “Connecting the Interactions – a era da interação de dados\, pessoas e negócios conectados”\, o Futurecom 2023 reunirá mais de 250 marcas expositoras\, mais de 30 mil visitantes e 800 palestrantes nos brindando em mais de 200 horas de conteúdo.
URL:https://anptrilhos.org.br/eventos/futurecom-2023/
END:VEVENT
BEGIN:VEVENT
DTSTART;TZID=America/Sao_Paulo:20231024T080000
DTEND;TZID=America/Sao_Paulo:20231026T170000
DTSTAMP:20260425T084436
CREATED:20230411T173208Z
LAST-MODIFIED:20230810T125048Z
UID:32319-1698134400-1698339600@anptrilhos.org.br
SUMMARY:Arena ANTP 2023 - Congresso de Mobilidade Urbana
DESCRIPTION:A ANTP\, desde sua fundação em 1977\, realiza seu congresso bianual. O primeiro deles\, em 1978\, ocorreu na cidade do Rio de Janeiro. Na época o congresso ainda era denominado de Congresso da Associação Nacional de Transportes Públicos. \nNa sua 4ª edição\, em 1983\, o congresso passou a ser chamado de Congresso Nacional de Transportes Públicos e na sua 12ª edição\, em 1999\, ganhou a denominação de Congresso Brasileiro de Transporte e Trânsito. \nParalelamente ao congresso técnico\, a ANTP também realiza uma feira de exposições\, antes denominada de INTRANS – Exposição Internacional de Transporte e Trânsito\, evento destinado a expositores do setor do transporte público\, trânsito e mobilidade urbana. \nEm 2019\, a ANTP alterou o formato do Congresso\, reunindo num mesmo ambiente as conferências técnicas\, as apresentações de comunicações técnicas e a feira de expositores. Neste formato\, em parceria com a OTM Editora\, o congresso passou a ser denominado de Arena ANTP 2019 – Congresso de Mobilidade Urbana. \nNeste ando 2023\, dado o sucesso do formato de arena adotado\, vamos realizar o Arena ANTP 2023 – Congresso de Mobilidade Urbana\, nossa 22ª edição do congresso bianual\, em São Paulo\, no Transamérica Expo Center\, nos dias 24\, 25 e 26 de outubro.
URL:https://anptrilhos.org.br/eventos/arena-antp-2023-congresso-de-mobilidade-urbana/
END:VEVENT
BEGIN:VEVENT
DTSTART;VALUE=DATE:20231026
DTEND;VALUE=DATE:20231027
DTSTAMP:20260425T084436
CREATED:20230411T173306Z
LAST-MODIFIED:20230411T173306Z
UID:32324-1698278400-1698364799@anptrilhos.org.br
SUMMARY:Dia do Metroviário
DESCRIPTION:
URL:https://anptrilhos.org.br/eventos/dia-do-metroviario/
END:VEVENT
END:VCALENDAR