BEGIN:VCALENDAR
VERSION:2.0
PRODID:-//ANPTrilhos - ECPv6.15.20//NONSGML v1.0//EN
CALSCALE:GREGORIAN
METHOD:PUBLISH
X-WR-CALNAME:ANPTrilhos
X-ORIGINAL-URL:https://anptrilhos.org.br
X-WR-CALDESC:Eventos para ANPTrilhos
REFRESH-INTERVAL;VALUE=DURATION:PT1H
X-Robots-Tag:noindex
X-PUBLISHED-TTL:PT1H
BEGIN:VTIMEZONE
TZID:America/Sao_Paulo
BEGIN:STANDARD
TZOFFSETFROM:-0300
TZOFFSETTO:-0300
TZNAME:-03
DTSTART:20220101T000000
END:STANDARD
END:VTIMEZONE
BEGIN:VEVENT
DTSTART;VALUE=DATE:20230911
DTEND;VALUE=DATE:20230915
DTSTAMP:20260425T102830
CREATED:20230411T173035Z
LAST-MODIFIED:20230810T124431Z
UID:32314-1694390400-1694735999@anptrilhos.org.br
SUMMARY:10º Prêmio Tecnologia e Desenvolvimento Metroferroviário
DESCRIPTION:
URL:https://anptrilhos.org.br/eventos/10o-premio-tecnologia-e-desenvolvimento-metroferroviario/
ORGANIZER;CN="ANPTrilhos":MAILTO:contato@anptrilhos.org.br
END:VEVENT
BEGIN:VEVENT
DTSTART;VALUE=DATE:20230911
DTEND;VALUE=DATE:20230915
DTSTAMP:20260425T102830
CREATED:20230411T172952Z
LAST-MODIFIED:20230810T124530Z
UID:32311-1694390400-1694735999@anptrilhos.org.br
SUMMARY:29ª Semana de Tecnologia Metroferroviária da AEAMESP e Metroferr
DESCRIPTION:
URL:https://anptrilhos.org.br/eventos/29a-semana-de-tecnologia-metroferroviaria-da-aeamesp-e-metroferr/
END:VEVENT
BEGIN:VEVENT
DTSTART;TZID=America/Sao_Paulo:20230918T080000
DTEND;TZID=America/Sao_Paulo:20230922T170000
DTSTAMP:20260425T102830
CREATED:20230411T173117Z
LAST-MODIFIED:20230411T173117Z
UID:32316-1695024000-1695402000@anptrilhos.org.br
SUMMARY:Semana da Mobilidade
DESCRIPTION:
URL:https://anptrilhos.org.br/eventos/semana-da-mobilidade/
END:VEVENT
END:VCALENDAR