BEGIN:VCALENDAR
VERSION:2.0
PRODID:-//ANPTrilhos - ECPv6.15.20//NONSGML v1.0//EN
CALSCALE:GREGORIAN
METHOD:PUBLISH
X-WR-CALNAME:ANPTrilhos
X-ORIGINAL-URL:https://anptrilhos.org.br
X-WR-CALDESC:Eventos para ANPTrilhos
REFRESH-INTERVAL;VALUE=DURATION:PT1H
X-Robots-Tag:noindex
X-PUBLISHED-TTL:PT1H
BEGIN:VTIMEZONE
TZID:America/Sao_Paulo
BEGIN:STANDARD
TZOFFSETFROM:-0300
TZOFFSETTO:-0300
TZNAME:-03
DTSTART:20220101T000000
END:STANDARD
END:VTIMEZONE
BEGIN:VEVENT
DTSTART;VALUE=DATE:20230810
DTEND;VALUE=DATE:20230811
DTSTAMP:20260425T120910
CREATED:20230411T172820Z
LAST-MODIFIED:20230411T172820Z
UID:32307-1691625600-1691711999@anptrilhos.org.br
SUMMARY:116ª Reunião do Fórum Nacional de Secretários e Dirigentes de Mobilidade Urbana
DESCRIPTION:
URL:https://anptrilhos.org.br/eventos/116a-reuniao-do-forum-nacional-de-secretarios-e-dirigentes-de-mobilidade-urbana/
END:VEVENT
BEGIN:VEVENT
DTSTART;VALUE=DATE:20230828
DTEND;VALUE=DATE:20230829
DTSTAMP:20260425T120910
CREATED:20230411T172900Z
LAST-MODIFIED:20230411T172900Z
UID:32309-1693180800-1693267199@anptrilhos.org.br
SUMMARY:Aniversário ANPTrilhos - fundação 2010
DESCRIPTION:
URL:https://anptrilhos.org.br/eventos/aniversario-anptrilhos-fundacao-2010/
ORGANIZER;CN="ANPTrilhos":MAILTO:contato@anptrilhos.org.br
END:VEVENT
END:VCALENDAR